BEGIN:VCALENDAR
VERSION:2.0
PRODID:-//ChamberMaster//Event Calendar 2.0//EN
METHOD:PUBLISH
X-PUBLISHED-TTL:P3D
REFRESH-INTERVAL:P3D
CALSCALE:GREGORIAN
BEGIN:VEVENT
DTSTART;VALUE=DATE:20090709
DTEND;VALUE=DATE:20090807
TRANSP:TRANSPARENT
X-MICROSOFT-CDO-ALLDAYEVENT:TRUE
SUMMARY:09 Grant Writing Workshops
DESCRIPTION:Three grant writing workshops take you through the procedures in which you learn to research and locate grant opportunities\, learn about grant availability\, essential information to include in your proposal and how to make your pitch. More importantly\, you will learn how to improve your organization's probability of actually receiving a grant. Facilitated by Vicki Lake\, Director of Market Research and Community  Development with West Tennessee Healthcare.
X-ALT-DESC;FMTTYPE=text/html:<div>Three grant writing workshops take you through the procedures in which you learn to research and locate grant opportunities\, learn about grant availability\, essential information to include in your proposal and how to make your pitch. More importantly\, you will learn how to improve your organization&rsquo\;s probability of actually receiving a grant.</div><div>&nbsp\;</div><div>Facilitated by Vicki Lake\, Director of Market Research and Community&nbsp\; Development with West Tennessee Healthcare.</div>
LOCATION:The Lannom Center for Business Development2000 Commerce AvenueDyersburg\, TN 38024
UID:e.576.58
SEQUENCE:3
DTSTAMP:20260422T083359Z
URL:https://business.dyerchamber.com/events/details/09-grant-writing-workshops-07-09-2009-58
END:VEVENT

END:VCALENDAR
