BEGIN:VCALENDAR
VERSION:2.0
PRODID:-//ChamberMaster//Event Calendar 2.0//EN
METHOD:PUBLISH
X-PUBLISHED-TTL:P3D
REFRESH-INTERVAL:P3D
CALSCALE:GREGORIAN
BEGIN:VEVENT
DTSTART:20091215T180000Z
DTEND:20091215T190000Z
X-MICROSOFT-CDO-ALLDAYEVENT:FALSE
SUMMARY:12@12
DESCRIPTION:
X-ALT-DESC;FMTTYPE=text/html:
LOCATION:
UID:e.576.234
SEQUENCE:3
DTSTAMP:20260422T035426Z
URL:https://business.dyerchamber.com/events/details/12-12-12-15-2009-234
END:VEVENT

END:VCALENDAR
