BEGIN:VCALENDAR
VERSION:2.0
PRODID:-//ChamberMaster//Event Calendar 2.0//EN
METHOD:PUBLISH
X-PUBLISHED-TTL:P3D
REFRESH-INTERVAL:P3D
CALSCALE:GREGORIAN
BEGIN:VEVENT
DTSTART:20100720T170000Z
DTEND:20100720T180000Z
X-MICROSOFT-CDO-ALLDAYEVENT:FALSE
SUMMARY:12 @ 12 Member Luncheon
DESCRIPTION:12 @ 12 Member Luncheon Please join us for an informative luncheon on the current happenings at the Chamber.  Also learn about new ways to advertise that are brought to you through the Chamber.  Please contact Judy Gregory at 731.285.3433 if you would like to attend.
X-ALT-DESC;FMTTYPE=text/html:<div>12 @ 12 Member Luncheon</div><div>&nbsp\;</div><div>Please join us for an informative luncheon on the current happenings at the Chamber.&nbsp\; Also learn about new ways to advertise that are brought to you through the Chamber.&nbsp\; Please contact Judy Gregory at 731.285.3433 if you would like to attend.</div>
LOCATION:Dyersburg/Dyer CountyChamber of Commerce2000 Commerce AveDyersburg\, TN 38024
UID:e.576.937
SEQUENCE:3
DTSTAMP:20260420T004949Z
URL:https://business.dyerchamber.com/events/details/12-12-member-luncheon-07-20-2010-937
END:VEVENT

END:VCALENDAR
