BEGIN:VCALENDAR
VERSION:2.0
PRODID:-//ChamberMaster//Event Calendar 2.0//EN
METHOD:PUBLISH
X-PUBLISHED-TTL:P3D
REFRESH-INTERVAL:P3D
CALSCALE:GREGORIAN
BEGIN:VEVENT
DTSTART:20100429T190000Z
DTEND:20100430T000000Z
X-MICROSOFT-CDO-ALLDAYEVENT:FALSE
SUMMARY:2010 Business Expo
DESCRIPTION:The 2010 Business Expo is the premier networking event of the year featuring over 45 exhibitors displaying their products and services to the public from 2:00 p.m. - 7:00 p.m.  In addition\, there is a special Networking Reception from 5:00 p.m. - 7:00 p.m. for Chamber members and invited guests.
X-ALT-DESC;FMTTYPE=text/html:<div>The 2010 Business Expo is the premier networking event of the year featuring over 45 exhibitors displaying their products and services to the public from 2:00 p.m.&nbsp\;- 7:00 p.m.&nbsp\; In addition\, there is a special Networking Reception from 5:00 p.m. - 7:00 p.m. for Chamber members and invited guests.</div>
LOCATION:The Lannom Center for Business Development2000 Commerce AvenueDyersburg\, TN 38024
UID:e.576.923
SEQUENCE:3
DTSTAMP:20260420T052806Z
URL:https://business.dyerchamber.com/events/details/2010-business-expo-04-29-2010-923
END:VEVENT

END:VCALENDAR
