BEGIN:VCALENDAR
VERSION:2.0
PRODID:-//ChamberMaster//Event Calendar 2.0//EN
METHOD:PUBLISH
X-PUBLISHED-TTL:P3D
REFRESH-INTERVAL:P3D
CALSCALE:GREGORIAN
BEGIN:VEVENT
DTSTART;VALUE=DATE:20101129
DTEND;VALUE=DATE:20101130
TRANSP:TRANSPARENT
X-MICROSOFT-CDO-ALLDAYEVENT:TRUE
SUMMARY:60th Annual Dyersburg Christmas Parade
DESCRIPTION:Traditionl floats\, bands\, antique cars and people!  Come to Downtown Dyersburg and celebrate Christmas with the first parade of the season.
X-ALT-DESC;FMTTYPE=text/html:Traditionl floats\, bands\, antique cars and people!  Come to Downtown Dyersburg and celebrate Christmas with the first parade of the season.
LOCATION:Route follows: Market from Lake Road to Mill\, Mill to Masonic\, Masonic to Church\, Church to West Court and West Court to King. Reviewing Stand will be on the Mill across from Galleria.
UID:e.576.970
SEQUENCE:3
DTSTAMP:20260419T170243Z
URL:https://business.dyerchamber.com/events/details/60th-annual-dyersburg-christmas-parade-11-29-2010-970
END:VEVENT

END:VCALENDAR
