BEGIN:VCALENDAR
VERSION:2.0
PRODID:-//ChamberMaster//Event Calendar 2.0//EN
METHOD:PUBLISH
X-PUBLISHED-TTL:P3D
REFRESH-INTERVAL:P3D
CALSCALE:GREGORIAN
BEGIN:VEVENT
DTSTART:20091001T223000Z
DTEND:20091002T000000Z
X-MICROSOFT-CDO-ALLDAYEVENT:FALSE
SUMMARY:Adult Dyer County Leadership Mixer
DESCRIPTION:
X-ALT-DESC;FMTTYPE=text/html:
LOCATION:Adult Leadership Dyer County will kick off their 2009 - 2010 class with a mixer at the Lannom Center. All Leadership Alumni are invited to attend.
UID:e.576.187
SEQUENCE:3
DTSTAMP:20260422T071052Z
URL:https://business.dyerchamber.com/events/details/adult-dyer-county-leadership-mixer-10-01-2009-187
END:VEVENT

END:VCALENDAR
