BEGIN:VCALENDAR
VERSION:2.0
PRODID:-//ChamberMaster//Event Calendar 2.0//EN
METHOD:PUBLISH
X-PUBLISHED-TTL:P3D
REFRESH-INTERVAL:P3D
CALSCALE:GREGORIAN
BEGIN:VEVENT
DTSTART:20090916T220000Z
DTEND:20090917T000000Z
X-MICROSOFT-CDO-ALLDAYEVENT:FALSE
SUMMARY:After Hours Launch
DESCRIPTION:This is a test.
X-ALT-DESC;FMTTYPE=text/html:<div>This is a test.</div>
LOCATION:This is a test.
UID:e.576.61
SEQUENCE:3
DTSTAMP:20260422T070607Z
URL:https://business.dyerchamber.com/events/details/after-hours-launch-09-16-2009-61
END:VEVENT

END:VCALENDAR
