BEGIN:VCALENDAR
VERSION:2.0
PRODID:-//ChamberMaster//Event Calendar 2.0//EN
METHOD:PUBLISH
X-PUBLISHED-TTL:P3D
REFRESH-INTERVAL:P3D
CALSCALE:GREGORIAN
BEGIN:VEVENT
DTSTART:20100124T000000Z
DTEND:20100124T053000Z
X-MICROSOFT-CDO-ALLDAYEVENT:FALSE
SUMMARY:Annual Membership Banquet Featuring the 2009 Awards Presentations
DESCRIPTION:The Annual Membership Banquet featuring the 2009 Awards Presentation\, honors outgoing Chairman of the Board\, Wendell West and members of the 2009 Board of Directors. This event features award presentations for Man\, Woman\, Diplomat\, Business of the Year and Distinguished Community Service. Incoming Chairman of the Board\, Joe Emery completes the program with his goals for 2010.
X-ALT-DESC;FMTTYPE=text/html:<div>The Annual Membership Banquet featuring the 2009 Awards Presentation\, honors outgoing Chairman of the Board\, Wendell West and members of the 2009 Board of Directors. This event features award presentations for Man\, Woman\, Diplomat\, Business of the Year and Distinguished Community Service. Incoming Chairman of the Board\, Joe Emery completes the program with his goals for 2010.</div>
LOCATION:The Lannom Center2000 Commerce AvenueDyersburg\, Tennessee
UID:e.576.204
SEQUENCE:3
DTSTAMP:20260422T095949Z
URL:https://business.dyerchamber.com/events/details/annual-membership-banquet-featuring-the-2009-awards-presentations-01-23-2010-204
END:VEVENT

END:VCALENDAR
