BEGIN:VCALENDAR
VERSION:2.0
PRODID:-//ChamberMaster//Event Calendar 2.0//EN
METHOD:PUBLISH
X-PUBLISHED-TTL:P3D
REFRESH-INTERVAL:P3D
CALSCALE:GREGORIAN
BEGIN:VEVENT
DTSTART:20100921T150000Z
DTEND:20100921T160000Z
X-MICROSOFT-CDO-ALLDAYEVENT:FALSE
SUMMARY:AT&T U-verse Announcement
DESCRIPTION:
X-ALT-DESC;FMTTYPE=text/html:
LOCATION:The Lannom Center 2000 Commerce Avenue Dyersburg\, TN 38024
UID:e.576.953
SEQUENCE:3
DTSTAMP:20260419T213932Z
URL:https://business.dyerchamber.com/events/details/at-t-u-verse-announcement-09-21-2010-953
END:VEVENT

END:VCALENDAR
