BEGIN:VCALENDAR
VERSION:2.0
PRODID:-//ChamberMaster//Event Calendar 2.0//EN
METHOD:PUBLISH
X-PUBLISHED-TTL:P3D
REFRESH-INTERVAL:P3D
CALSCALE:GREGORIAN
BEGIN:VEVENT
DTSTART;VALUE=DATE:20091031
DTEND;VALUE=DATE:20091115
TRANSP:TRANSPARENT
X-MICROSOFT-CDO-ALLDAYEVENT:TRUE
SUMMARY:Basketball Registration at YMCA of Dyer County
DESCRIPTION:Registration for Basketball Programs in Dyersburg and Newbern. We have programs geared for children preschool to 8th grade.  Check with the YMCA for  more details.
X-ALT-DESC;FMTTYPE=text/html:Registration for Basketball Programs in Dyersburg and Newbern. We have programs geared for children preschool to 8th grade.  Check with the YMCA for  more details.  
LOCATION:YMCA of Dyer County for registration. Dyersburg program held at First Baptist Church at Dyersburg. Newbern program held in gyms in Newbern area.
UID:e.576.201
SEQUENCE:3
DTSTAMP:20260422T035824Z
URL:https://business.dyerchamber.com/events/details/basketball-registration-at-ymca-of-dyer-county-10-31-2009-201
END:VEVENT

END:VCALENDAR
