BEGIN:VCALENDAR
VERSION:2.0
PRODID:-//ChamberMaster//Event Calendar 2.0//EN
METHOD:PUBLISH
X-PUBLISHED-TTL:P3D
REFRESH-INTERVAL:P3D
CALSCALE:GREGORIAN
BEGIN:VEVENT
DTSTART:20100828T230000Z
DTEND:20100829T030000Z
X-MICROSOFT-CDO-ALLDAYEVENT:FALSE
SUMMARY:Big River Bowl
DESCRIPTION:Team Dyersburg will host the 2nd Annual Big River Bowl presented by Dr. Jason Hutcherson and the West Tennessee Bone and Joint Clinic.  Game time is 6:00 p.m. Saturday\, August 28th at J.C. Sawyers Stadium in Dyersburg\, TN.  The NAIA 9th ranked McKendree University Bearcats from Lebanon\, IL\, face the number 11th ranked University of the Cumberland's Patriots from Williamsburg\, KY.  Tickets are $10 and students are just $5.00.  They are available at The Lannom Center located at 2000 Commerce Ave Dyersburg\, TN 38024.  For more information call 731.285.3433
X-ALT-DESC;FMTTYPE=text/html:<div>Team Dyersburg will host the 2nd Annual Big River Bowl presented by Dr. Jason Hutcherson and the West Tennessee Bone and Joint Clinic.&nbsp\; Game time is 6:00 p.m. Saturday\, August 28th at J.C. Sawyers Stadium in Dyersburg\, TN.&nbsp\; The NAIA 9th ranked McKendree University Bearcats from Lebanon\, IL\, face the number 11th ranked University of the Cumberland's Patriots from Williamsburg\, KY.&nbsp\; Tickets are $10 and students are just $5.00.&nbsp\; They are available at The Lannom Center located at 2000 Commerce Ave Dyersburg\, TN 38024.&nbsp\; For more information call 731.285.3433</div>
LOCATION:Dyersburg High SchoolJ.C. Sawyer Stadium
UID:e.576.940
SEQUENCE:3
DTSTAMP:20260419T230630Z
URL:https://business.dyerchamber.com/events/details/big-river-bowl-08-28-2010-940
END:VEVENT

END:VCALENDAR
