BEGIN:VCALENDAR
VERSION:2.0
PRODID:-//ChamberMaster//Event Calendar 2.0//EN
METHOD:PUBLISH
X-PUBLISHED-TTL:P3D
REFRESH-INTERVAL:P3D
CALSCALE:GREGORIAN
BEGIN:VEVENT
DTSTART:20100925T150000Z
DTEND:20100925T180000Z
X-MICROSOFT-CDO-ALLDAYEVENT:FALSE
SUMMARY:CableOne Customer Appreciation Day
DESCRIPTION:This is an event to show our customers how much we appreciate their business and their support.
X-ALT-DESC;FMTTYPE=text/html:This is an event to show our customers how much we appreciate their business and their support.
LOCATION:416 W. Court St. Dyersburg\, Tn 38024
UID:e.576.950
SEQUENCE:3
DTSTAMP:20260419T212714Z
URL:https://business.dyerchamber.com/events/details/cableone-customer-appreciation-day-09-25-2010-950
END:VEVENT

END:VCALENDAR
