BEGIN:VCALENDAR
VERSION:2.0
PRODID:-//ChamberMaster//Event Calendar 2.0//EN
METHOD:PUBLISH
X-PUBLISHED-TTL:P3D
REFRESH-INTERVAL:P3D
CALSCALE:GREGORIAN
BEGIN:VEVENT
DTSTART:20100917T170000Z
DTEND:20100917T190000Z
X-MICROSOFT-CDO-ALLDAYEVENT:FALSE
SUMMARY:Canterbury Place Open House
DESCRIPTION:Come join us for lunch\, door prizes and more at "A Canterbury OPEN House."
X-ALT-DESC;FMTTYPE=text/html:&nbsp\;&nbsp\;&nbsp\;Come join us for lunch\, door prizes and more at &quot\;A Canterbury OPEN House.&quot\;<br />\n
LOCATION:900 Highway 51 Bypass N. Dyersburg\, TN
UID:e.576.947
SEQUENCE:3
DTSTAMP:20260419T215100Z
URL:https://business.dyerchamber.com/events/details/canterbury-place-open-house-09-17-2010-947
END:VEVENT

END:VCALENDAR
