BEGIN:VCALENDAR
VERSION:2.0
PRODID:-//ChamberMaster//Event Calendar 2.0//EN
METHOD:PUBLISH
X-PUBLISHED-TTL:P3D
REFRESH-INTERVAL:P3D
CALSCALE:GREGORIAN
BEGIN:VEVENT
DTSTART;VALUE=DATE:20091224
DTEND;VALUE=DATE:20091226
TRANSP:TRANSPARENT
X-MICROSOFT-CDO-ALLDAYEVENT:TRUE
SUMMARY:CHAMBER CLOSED
DESCRIPTION:Chamber will be closed in observance of the holiday season.
X-ALT-DESC;FMTTYPE=text/html:<div>Chamber will be closed in observance of the holiday season.</div>
LOCATION:
UID:e.576.236
SEQUENCE:3
DTSTAMP:20260422T035427Z
URL:https://business.dyerchamber.com/events/details/chamber-closed-12-24-2009-236
END:VEVENT

END:VCALENDAR
