BEGIN:VCALENDAR
VERSION:2.0
PRODID:-//ChamberMaster//Event Calendar 2.0//EN
METHOD:PUBLISH
X-PUBLISHED-TTL:P3D
REFRESH-INTERVAL:P3D
CALSCALE:GREGORIAN
BEGIN:VEVENT
DTSTART:20091208T220000Z
DTEND:20091209T020000Z
X-MICROSOFT-CDO-ALLDAYEVENT:FALSE
SUMMARY:Charity Night at Sweet Peppers Deli
DESCRIPTION:Enjoy dinner at Sweet Peppers Deli and 20% of your purchase will go to assist the United Way agencies serving Dyer County.  Entertainment will be provided by the Dyersburg High School choir.  Door Prizes!
X-ALT-DESC;FMTTYPE=text/html:Enjoy dinner at Sweet Peppers Deli and 20% of your purchase will go to assist the United Way agencies serving Dyer County.  Entertainment will be provided by the Dyersburg High School choir.  Door Prizes!
LOCATION:Sweet Peppers Deli at Dyersburg Mall
UID:e.576.230
SEQUENCE:3
DTSTAMP:20260422T040029Z
URL:https://business.dyerchamber.com/events/details/charity-night-at-sweet-peppers-deli-12-08-2009-230
END:VEVENT

END:VCALENDAR
