BEGIN:VCALENDAR
VERSION:2.0
PRODID:-//ChamberMaster//Event Calendar 2.0//EN
METHOD:PUBLISH
X-PUBLISHED-TTL:P3D
REFRESH-INTERVAL:P3D
CALSCALE:GREGORIAN
BEGIN:VEVENT
DTSTART;VALUE=DATE:20101108
DTEND;VALUE=DATE:20101115
TRANSP:TRANSPARENT
X-MICROSOFT-CDO-ALLDAYEVENT:TRUE
SUMMARY:Chimes For Charity
DESCRIPTION:The Annual Radio Auction provides Dyer County children with a better Christmas and more.
X-ALT-DESC;FMTTYPE=text/html:The Annual Radio Auction provides Dyer County children with a better Christmas and more.  
LOCATION:111 Market Street\, Dyersburg\, TN
UID:e.576.962
SEQUENCE:3
DTSTAMP:20260419T150858Z
URL:https://business.dyerchamber.com/events/details/chimes-for-charity-11-08-2010-962
END:VEVENT

END:VCALENDAR
