BEGIN:VCALENDAR
VERSION:2.0
PRODID:-//ChamberMaster//Event Calendar 2.0//EN
METHOD:PUBLISH
X-PUBLISHED-TTL:P3D
REFRESH-INTERVAL:P3D
CALSCALE:GREGORIAN
BEGIN:VEVENT
DTSTART;VALUE=DATE:20091210
DTEND;VALUE=DATE:20091213
TRANSP:TRANSPARENT
X-MICROSOFT-CDO-ALLDAYEVENT:TRUE
SUMMARY:Christmas at Sorghum Valley
DESCRIPTION:Christmas at Sorghum Valley! Numerous activities will be taking place to keep everyone entertained as Sorghum Valley will be decorated and lit up to take you back to Christmases of days past.The Dyersburg FFA Chapter will host story time each night at 6:30 p.m. and 7:00 p.m. They will be accepting books as donations.There will also be free popcorn\, hot chocolate\, a live nativity scene\, over 30 decorated Christmas trees\, musical performances\, a silent auction for wreaths\, a basket weaver and of course the lovable old Saint Nick himself\, Santa Clause who will be passing out candy.All of the donated items will go toward Mathew 25:40\, the Union Mission\, the Salvation Army\, the State Gazette's Coats for Kids program\, the Dyer County Humane Society and the Lion's Club hearing and sight programs.
X-ALT-DESC;FMTTYPE=text/html:<div>Christmas at Sorghum Valley!&nbsp\;</div><div><p>Numerous activities will be taking place to keep everyone entertained as Sorghum Valley will be decorated and lit up to take you back to Christmases of days past.</p><p>The Dyersburg FFA Chapter will host story time each night at 6:30 p.m.&nbsp\;and 7:00 p.m. They will be accepting books as donations.</p><p>There will also be free popcorn\, hot chocolate\, a live nativity scene\, over 30 decorated Christmas trees\, musical performances\, a silent auction for wreaths\, a basket weaver and of course the lovable old Saint Nick himself\, Santa Clause who will be passing out candy.</p><p>All of the donated items will go toward Mathew 25:40\, the Union Mission\, the Salvation Army\, the State Gazette's Coats for Kids program\, the Dyer County Humane Society and the Lion's Club hearing and sight programs.</p></div>
LOCATION:Dyer County Fairgrounds296 James Rice RoadDyersburg\, TN 38024
UID:e.576.239
SEQUENCE:3
DTSTAMP:20260422T035554Z
URL:https://business.dyerchamber.com/events/details/christmas-at-sorghum-valley-12-10-2009-239
END:VEVENT

END:VCALENDAR
