BEGIN:VCALENDAR
VERSION:2.0
PRODID:-//ChamberMaster//Event Calendar 2.0//EN
METHOD:PUBLISH
X-PUBLISHED-TTL:P3D
REFRESH-INTERVAL:P3D
CALSCALE:GREGORIAN
BEGIN:VEVENT
DTSTART:20101005T180000Z
DTEND:20101005T220000Z
X-MICROSOFT-CDO-ALLDAYEVENT:FALSE
SUMMARY:Cole Chiropractic Clinic kick off for National Posture Month
DESCRIPTION:Join us at Cole Chiropractic located on 417 Troy Ave on October 5th from 1 pm to 5 pm to kick off National Posture Month with "FREE" hot dogs and drinks.  Door prizes will be awarded that day\, plus all children examined in the month of October will be able to register for a bike to be given away October 28th.  Spinal exams and x-rays for children and adults of all ages will be done throughout the month of October for "The cost of a $5.00 or more pet product to be donated to the Dyersburg/Dyer County Humane Society." Call 285-2696 for more information.
X-ALT-DESC;FMTTYPE=text/html:Join us at Cole Chiropractic located on 417 Troy Ave on October 5th from 1 pm to 5 pm to kick off National Posture Month with &quot\;FREE&quot\; hot dogs and drinks.&nbsp\; Door prizes will be awarded that day\, plus all children examined in the month of October will be able to register for a bike to be given away October 28th.&nbsp\; Spinal exams and x-rays for children and adults of all ages will be done throughout the month of October for &quot\;The cost of a $5.00 or more pet product to be donated to the Dyersburg/Dyer County Humane Society.&quot\; Call 285-2696 for more information.
LOCATION:
UID:e.576.954
SEQUENCE:3
DTSTAMP:20260419T195728Z
URL:https://business.dyerchamber.com/events/details/cole-chiropractic-clinic-kick-off-for-national-posture-month-10-05-2010-954
END:VEVENT

END:VCALENDAR
