BEGIN:VCALENDAR
VERSION:2.0
PRODID:-//ChamberMaster//Event Calendar 2.0//EN
METHOD:PUBLISH
X-PUBLISHED-TTL:P3D
REFRESH-INTERVAL:P3D
CALSCALE:GREGORIAN
BEGIN:VEVENT
DTSTART:20100825T150000Z
DTEND:20100825T200000Z
X-MICROSOFT-CDO-ALLDAYEVENT:FALSE
SUMMARY:Community Resource & Job Fair
DESCRIPTION:Child Support Services is hosting a Community Resource Fair for "parents ordered to pay child suport" on August 25\, 2010 from 10 am til 3 pm at the Lannom Center in Dyersburg. There will be booths to assist you with jobs\, job training\, interviewing skills\, education\, proper clothing\, substance abuse and much more.  Free refreshments and door prizes.  Come and find out what your community has to offer you.
X-ALT-DESC;FMTTYPE=text/html:Child Support Services is hosting a Community Resource Fair for "parents ordered to pay child suport" on August 25\, 2010 from 10 am til 3 pm at the Lannom Center in Dyersburg. There will be booths to assist you with jobs\, job training\, interviewing skills\, education\, proper clothing\, substance abuse and much more.  Free refreshments and door prizes.  Come and find out what your community has to offer you.\n<br>
LOCATION:The Lannom Center
UID:e.576.945
SEQUENCE:3
DTSTAMP:20260419T230738Z
URL:https://business.dyerchamber.com/events/details/community-resource-job-fair-08-25-2010-945
END:VEVENT

END:VCALENDAR
