BEGIN:VCALENDAR
VERSION:2.0
PRODID:-//ChamberMaster//Event Calendar 2.0//EN
METHOD:PUBLISH
X-PUBLISHED-TTL:P3D
REFRESH-INTERVAL:P3D
CALSCALE:GREGORIAN
BEGIN:VEVENT
DTSTART:20091218T220000Z
DTEND:20091218T220000Z
X-MICROSOFT-CDO-ALLDAYEVENT:FALSE
SUMMARY:Deadline for 2009 Nominations
DESCRIPTION:Final day to receive nominations for the 2009 Man\, Woman\, Business\, and Distinguished Community Service Award.   Form available at:  http://dyerchamber.com/news/chamber-news/2009-nomination-forms.html  Selection Criteria: Man/Woman of the Year - Motivation\, civic leadership\, business leadership\, community involvement\, community enrichment\, respect by peers\, and dedication to area growth and development.  Nominee shoud be a Chamber member in good standing or employee of member firm and cannot have received the award in the last 5 years.    Distinguished Community Service Award - Affiliation with civic\, professional\, or community organizations\, awards\, and recognition\, and overall efforts to make a positive contribution to individuals and the community.  Individuals must be a resident of Dyer County. Business of the Year - Categorized by number of employees\, must be in operation at least two years and be retail or service business.  Nominee should exhibit excellence in qualities such as financial soundness and profitability\, business growth\, employee relations\, innovations in product or service\, customer satisfaction\, civic and business leadership\, and involvement of owners and employees in the community.  Must be a Chamber member in good standing.
X-ALT-DESC;FMTTYPE=text/html:<div><p class="MsoNormal" style="margin: 0in 0in 0pt"><span style="font-size: larger"><span style="font-family: Arial"><big>Final day to receive nominations for the 2009 Man\, Woman\, Business\, and Distinguished Community Service Award.&nbsp\; </big></span></span></p><p class="MsoNormal" style="margin: 0in 0in 0pt">&nbsp\;</p><p class="MsoNormal" style="margin: 0in 0in 0pt"><span style="font-size: small"><span style="font-family: Arial"><big>Form available at:&nbsp\;&nbsp\;<span style="color: #0000ff"><span style="font-family: Arial\; font-size: 13.5pt"><a href="http://dyerchamber.com/news/chamber-news/2009-nomination-forms.html">http://dyerchamber.com/news/chamber-news/2009-nomination-forms.html</a></span></span><o:p></o:p></big></span></span><p class="MsoNormal" style="margin: 0in 0in 0pt">&nbsp\;</p><p class="MsoNormal" style="margin: 0in 0in 0pt"><span style="color: #0000ff"><span style="font-family: Arial\; font-size: 6.5pt">&nbsp\;</span></span><span style="font-family: Arial\; font-size: 6.5pt"><o:p></o:p></span></p><p class="MsoNormal" style="margin: 0in 0in 0pt"><span style="color: #0000ff"><span style="font-size: larger"><strong><u><span style="font-family: Arial">Selection Criteria:</span></u></strong></span></span><strong><span style="font-family: Arial\; font-size: 6.5pt"><o:p></o:p></span></strong></p><p class="MsoNormal" style="margin: 0in 0in 0pt"><span style="color: #0000ff"><span style="font-family: Arial\; font-size: 6.5pt">&nbsp\;</span></span><span style="font-family: Arial\; font-size: 6.5pt"><o:p></o:p></span></p><p class="MsoNormal" style="margin: 0in 0in 0pt"><span style="color: #0000ff"><strong>Man/Woman of the Year </strong>- Motivation\, civic leadership\, business leadership\, community involvement\, community enrichment\, respect by peers\, and dedication to area growth and development.&nbsp\; <em><strong>Nominee shoud be a Chamber member in good standing or employee of member firm and cannot have received the award in the last 5 years.</strong></em></span></p><p class="MsoNormal" style="margin: 0in 0in 0pt"><span style="color: #0000ff"><span style="font-family: Arial\; font-size: 6.5pt">&nbsp\;</span></span><span style="font-family: Arial\; font-size: 6.5pt"><o:p></o:p></span></p><p class="MsoNormal" style="margin: 0in 0in 0pt">&nbsp\;</p><p class="MsoNormal" style="margin: 0in 0in 0pt">&nbsp\;</p><p class="MsoNormal" style="margin: 0in 0in 0pt"><span style="color: #0000ff"><span style="font-family: Arial\; font-size: 6.5pt">&nbsp\;</span></span><span style="font-family: Arial\; font-size: 6.5pt"><o:p></o:p></span></p><p class="MsoNormal" style="margin: 0in 0in 0pt"><span style="color: #0000ff"><strong>Distinguished Community Service Award - </strong>Affiliation with civic\, professional\, or community organizations\, awards\, and recognition\, and overall efforts to make a positive contribution to individuals and the community.&nbsp\;&nbsp\;<strong><em>Individuals&nbsp\;must be a resident of Dyer County.</em></strong></span><o:p><span style="color: #0000ff"><span style="font-size: x-small"><font face="Times New Roman">&nbsp\;</font></span></span></o:p></p><span style="color: #0000ff"><p class="MsoNormal" style="margin: 0in 0in 0pt"><span style="font-family: Arial\; font-size: 6.5pt"><o:p></o:p></span></p><p class="MsoNormal" style="margin: 0in 0in 0pt"><strong>Business of the Year - </strong>Categorized by number of employees\, must be in operation at least two years and be retail or service business.&nbsp\; Nominee should exhibit excellence in qualities such as financial soundness and profitability\, business growth\, employee relations\, innovations in product or service\, customer satisfaction\, civic and business leadership\, and involvement of owners and employees in the community.&nbsp\; <em><strong>Must be a Chamber member in good standing.</strong></em></p></span></p></div>
LOCATION:Nominations may be submitted in the following manner: Email - chamber@ecsis.netFax - 731.286.4926Hand Deliver - 2000 Commerce Avenue
UID:e.576.241
SEQUENCE:3
DTSTAMP:20260422T035432Z
URL:https://business.dyerchamber.com/events/details/deadline-for-2009-nominations-12-18-2009-241
END:VEVENT

END:VCALENDAR
