BEGIN:VCALENDAR
VERSION:2.0
PRODID:-//ChamberMaster//Event Calendar 2.0//EN
METHOD:PUBLISH
X-PUBLISHED-TTL:P3D
REFRESH-INTERVAL:P3D
CALSCALE:GREGORIAN
BEGIN:VEVENT
DTSTART;VALUE=DATE:20090919
DTEND;VALUE=DATE:20090920
TRANSP:TRANSPARENT
X-MICROSOFT-CDO-ALLDAYEVENT:TRUE
SUMMARY:Depot Days
DESCRIPTION:Celebrate Depot Days in Downtown Newbern! Start off with a pancake breakfast\, 5 K run and 2 mile walk\, art show and sale\, crafts\, vendors\, cake walks\, kids rides\, parade\, local talent\, street dance\, and more.
X-ALT-DESC;FMTTYPE=text/html:<div>Celebrate Depot Days in Downtown Newbern! Start off with a pancake breakfast\, 5 K run and 2 mile walk\, art show and sale\, crafts\, vendors\, cake walks\, kids rides\, parade\, local talent\, street dance\, and more.</div>
LOCATION:Depot Days is held around the square in Downtown Newbern\, just 9 miles north of Dyersburg.
UID:e.576.188
SEQUENCE:3
DTSTAMP:20260422T070639Z
URL:https://business.dyerchamber.com/events/details/depot-days-09-19-2009-188
END:VEVENT

END:VCALENDAR
