BEGIN:VCALENDAR
VERSION:2.0
PRODID:-//ChamberMaster//Event Calendar 2.0//EN
METHOD:PUBLISH
X-PUBLISHED-TTL:P3D
REFRESH-INTERVAL:P3D
CALSCALE:GREGORIAN
BEGIN:VEVENT
DTSTART:20331031T223000Z
DTEND:20331101T000000Z
X-MICROSOFT-CDO-ALLDAYEVENT:FALSE
SUMMARY:Downtown Dyersburg Square Trick or Treat
DESCRIPTION:5:30 - 7:00 - Bring the family downtown around the square for a fun & safe Trick or Treat! Many businesses and churches will be on and around the square will be there to greet your goblins!
X-ALT-DESC;FMTTYPE=text/html:<span style="color: rgb(5\, 5\, 5)\; font-family: &quot\;Segoe UI Historic&quot\;\, &quot\;Segoe UI&quot\;\, Helvetica\, Arial\, sans-serif\; font-size: 15px\;">5:30 - 7:00 - Bring the family downtown around the square for a fun &amp\; safe Trick or Treat! Many businesses and churches will be on and around the square will be there to greet your goblins!</span>
LOCATION:Downtown Dyersburg Square
UID:e.576.4420
SEQUENCE:3
DTSTAMP:20260422T061812Z
URL:https://business.dyerchamber.com/events/details/downtown-dyersburg-square-trick-or-treat-10-31-2033-4420
END:VEVENT

END:VCALENDAR
