BEGIN:VCALENDAR
VERSION:2.0
PRODID:-//ChamberMaster//Event Calendar 2.0//EN
METHOD:PUBLISH
X-PUBLISHED-TTL:P3D
REFRESH-INTERVAL:P3D
CALSCALE:GREGORIAN
BEGIN:VEVENT
DTSTART:20101119T000000Z
DTEND:20101119T030000Z
X-MICROSOFT-CDO-ALLDAYEVENT:FALSE
SUMMARY:Dyer County Ducks Unlimited Annual Banquet
DESCRIPTION:Annual dinner with door prizes\, gun drawings and games.  Catfish plates to be catered by French's Catering.  Invite everyone to come out and enjoy a night with fellow hunters.
X-ALT-DESC;FMTTYPE=text/html:Annual dinner with door prizes\, gun drawings and games.  Catfish plates to be catered by French's Catering.  Invite everyone to come out and enjoy a night with fellow hunters.
LOCATION:The Lannom Center
UID:e.576.972
SEQUENCE:3
DTSTAMP:20260419T164250Z
URL:https://business.dyerchamber.com/events/details/dyer-county-ducks-unlimited-annual-banquet-11-18-2010-972
END:VEVENT

END:VCALENDAR
