BEGIN:VCALENDAR
VERSION:2.0
PRODID:-//ChamberMaster//Event Calendar 2.0//EN
METHOD:PUBLISH
X-PUBLISHED-TTL:P3D
REFRESH-INTERVAL:P3D
CALSCALE:GREGORIAN
BEGIN:VEVENT
DTSTART:20100930T223000Z
DTEND:20101001T010000Z
X-MICROSOFT-CDO-ALLDAYEVENT:FALSE
SUMMARY:Dyer County Leadership Evening Mixer
DESCRIPTION:All Leadership Alumni Members are invited to meet the Class of 2010-2011
X-ALT-DESC;FMTTYPE=text/html:All Leadership Alumni Members are invited to meet the Class of 2010-2011
LOCATION:Lannom Center
UID:e.576.952
SEQUENCE:3
DTSTAMP:20260419T213734Z
URL:https://business.dyerchamber.com/events/details/dyer-county-leadership-evening-mixer-09-30-2010-952
END:VEVENT

END:VCALENDAR
