BEGIN:VCALENDAR
VERSION:2.0
PRODID:-//ChamberMaster//Event Calendar 2.0//EN
METHOD:PUBLISH
X-PUBLISHED-TTL:P3D
REFRESH-INTERVAL:P3D
CALSCALE:GREGORIAN
BEGIN:VEVENT
DTSTART;VALUE=DATE:20100807
DTEND;VALUE=DATE:20100808
TRANSP:TRANSPARENT
X-MICROSOFT-CDO-ALLDAYEVENT:TRUE
SUMMARY:Dyersburg Duck Fest at the Fairgrounds
DESCRIPTION:
X-ALT-DESC;FMTTYPE=text/html:
LOCATION:
UID:e.576.939
SEQUENCE:3
DTSTAMP:20260419T231043Z
URL:https://business.dyerchamber.com/events/details/dyersburg-duck-fest-at-the-fairgrounds-08-07-2010-939
END:VEVENT

END:VCALENDAR
