BEGIN:VCALENDAR
VERSION:2.0
PRODID:-//ChamberMaster//Event Calendar 2.0//EN
METHOD:PUBLISH
X-PUBLISHED-TTL:P3D
REFRESH-INTERVAL:P3D
CALSCALE:GREGORIAN
BEGIN:VEVENT
DTSTART:20101013T160000Z
DTEND:20101013T170000Z
X-MICROSOFT-CDO-ALLDAYEVENT:FALSE
SUMMARY:Dyersburg/Dyer County Public Library USDA Rural Development Presentation
DESCRIPTION:
X-ALT-DESC;FMTTYPE=text/html:
LOCATION:At the Lannom Center on 2000 Commerce Avenue Dyersburg\, TN 38024
UID:e.576.964
SEQUENCE:3
DTSTAMP:20260419T195547Z
URL:https://business.dyerchamber.com/events/details/dyersburg-dyer-county-public-library-usda-rural-development-presentation-10-13-2010-964
END:VEVENT

END:VCALENDAR
