BEGIN:VCALENDAR
VERSION:2.0
PRODID:-//ChamberMaster//Event Calendar 2.0//EN
METHOD:PUBLISH
X-PUBLISHED-TTL:P3D
REFRESH-INTERVAL:P3D
CALSCALE:GREGORIAN
BEGIN:VEVENT
DTSTART:20100214T200000Z
DTEND:20100214T220000Z
X-MICROSOFT-CDO-ALLDAYEVENT:FALSE
SUMMARY:Dyersburg State College Goal Sunday
DESCRIPTION:
X-ALT-DESC;FMTTYPE=text/html:
LOCATION:Dyersburg State Community College Student Center 1510 Lake Road Dyerbsurg TN
UID:e.576.881
SEQUENCE:3
DTSTAMP:20260422T083942Z
URL:https://business.dyerchamber.com/events/details/dyersburg-state-college-goal-sunday-02-14-2010-881
END:VEVENT

END:VCALENDAR
