BEGIN:VCALENDAR
VERSION:2.0
PRODID:-//ChamberMaster//Event Calendar 2.0//EN
METHOD:PUBLISH
X-PUBLISHED-TTL:P3D
REFRESH-INTERVAL:P3D
CALSCALE:GREGORIAN
BEGIN:VEVENT
DTSTART:20100202T230000Z
DTEND:20100226T010000Z
X-MICROSOFT-CDO-ALLDAYEVENT:FALSE
SUMMARY:Dyersburg State Continuing Education
DESCRIPTION:Have you been stressed? Come join us for a basic yoga class that will begin February 2\, 2010. For further information\, please contact Teresa Evans at tevans@dscc.edu or 731/286-3267.
X-ALT-DESC;FMTTYPE=text/html:Have you been stressed? Come join us for a basic yoga class that will begin February 2\, 2010. For further information\, please contact Teresa Evans at tevans@dscc.edu or 731/286-3267.  \n<br> \n<br>
LOCATION:Dyersburg State Community College Security Building
UID:e.576.879
SEQUENCE:3
DTSTAMP:20260420T082601Z
URL:https://business.dyerchamber.com/events/details/dyersburg-state-continuing-education-02-02-2010-879
END:VEVENT

END:VCALENDAR
