BEGIN:VCALENDAR
VERSION:2.0
PRODID:-//ChamberMaster//Event Calendar 2.0//EN
METHOD:PUBLISH
X-PUBLISHED-TTL:P3D
REFRESH-INTERVAL:P3D
CALSCALE:GREGORIAN
BEGIN:VEVENT
DTSTART:20100201T220000Z
DTEND:20100202T010000Z
X-MICROSOFT-CDO-ALLDAYEVENT:FALSE
SUMMARY:Dyersburg State Home Basketball Game
DESCRIPTION:Lady Eagles Basketball vs Hiwassee College\, E.H. Lannom Gymnasium 4:00 pm
X-ALT-DESC;FMTTYPE=text/html:Lady Eagles Basketball vs Hiwassee College\, E.H. Lannom Gymnasium 4:00 pm
LOCATION:E.H. Lannom Gymnasium
UID:e.576.878
SEQUENCE:3
DTSTAMP:20260422T083851Z
URL:https://business.dyerchamber.com/events/details/dyersburg-state-home-basketball-game-02-01-2010-878
END:VEVENT

END:VCALENDAR
