BEGIN:VCALENDAR
VERSION:2.0
PRODID:-//ChamberMaster//Event Calendar 2.0//EN
METHOD:PUBLISH
X-PUBLISHED-TTL:P3D
REFRESH-INTERVAL:P3D
CALSCALE:GREGORIAN
BEGIN:VEVENT
DTSTART;VALUE=DATE:20100208
DTEND;VALUE=DATE:20100214
TRANSP:TRANSPARENT
X-MICROSOFT-CDO-ALLDAYEVENT:TRUE
SUMMARY:Dyersburg State Homecoming Week
DESCRIPTION:
X-ALT-DESC;FMTTYPE=text/html:
LOCATION:Dyersburg State Community College 1510 Lake Road Dyersburg\, TN
UID:e.576.880
SEQUENCE:3
DTSTAMP:20260420T082818Z
URL:https://business.dyerchamber.com/events/details/dyersburg-state-homecoming-week-02-08-2010-880
END:VEVENT

END:VCALENDAR
