BEGIN:VCALENDAR
VERSION:2.0
PRODID:-//ChamberMaster//Event Calendar 2.0//EN
METHOD:PUBLISH
X-PUBLISHED-TTL:P3D
REFRESH-INTERVAL:P3D
CALSCALE:GREGORIAN
BEGIN:VEVENT
DTSTART:20100918T120000Z
DTEND:20100919T020000Z
X-MICROSOFT-CDO-ALLDAYEVENT:FALSE
SUMMARY:Event at City of Newbern
DESCRIPTION:Depot Days Celebration\n\nPancake Breakfast\n\n5 K Race- 1 mile Fun Run\n\nVendors all day\n\nChildrens games\n\nEmpty Pockets Band-T. G. Sheppard-Street Dance
X-ALT-DESC;FMTTYPE=text/html:Depot Days Celebration\n<br>Pancake Breakfast\n<br>5 K Race- 1 mile Fun Run\n<br>Vendors all day\n<br>Childrens games\n<br>Empty Pockets Band-T. G. Sheppard-Street Dance 
LOCATION:Downtown Newbern
UID:e.576.946
SEQUENCE:3
DTSTAMP:20260419T215503Z
URL:https://business.dyerchamber.com/events/details/event-at-city-of-newbern-09-18-2010-946
END:VEVENT

END:VCALENDAR
