BEGIN:VCALENDAR
VERSION:2.0
PRODID:-//ChamberMaster//Event Calendar 2.0//EN
METHOD:PUBLISH
X-PUBLISHED-TTL:P3D
REFRESH-INTERVAL:P3D
CALSCALE:GREGORIAN
BEGIN:VEVENT
DTSTART:20100214T000000Z
DTEND:20100214T050000Z
X-MICROSOFT-CDO-ALLDAYEVENT:FALSE
SUMMARY:Event at Dyersburg State Community College
DESCRIPTION:Dyersburg State Basketball Homecoming
X-ALT-DESC;FMTTYPE=text/html:Dyersburg State Basketball Homecoming
LOCATION:E.H. Lannom Gymnasium
UID:e.576.203
SEQUENCE:3
DTSTAMP:20260420T082948Z
URL:https://business.dyerchamber.com/events/details/event-at-dyersburg-state-community-college-02-13-2010-203
END:VEVENT

END:VCALENDAR
