BEGIN:VCALENDAR
VERSION:2.0
PRODID:-//ChamberMaster//Event Calendar 2.0//EN
METHOD:PUBLISH
X-PUBLISHED-TTL:P3D
REFRESH-INTERVAL:P3D
CALSCALE:GREGORIAN
BEGIN:VEVENT
DTSTART;VALUE=DATE:20091102
DTEND;VALUE=DATE:20091103
TRANSP:TRANSPARENT
X-MICROSOFT-CDO-ALLDAYEVENT:TRUE
SUMMARY:Event at Dyersburg State Community College
DESCRIPTION:DSCC Men vs. Bethel JV
X-ALT-DESC;FMTTYPE=text/html:DSCC Men vs. Bethel JV
LOCATION:Gym
UID:e.576.207
SEQUENCE:3
DTSTAMP:20260422T035723Z
URL:https://business.dyerchamber.com/events/details/event-at-dyersburg-state-community-college-11-02-2009-207
END:VEVENT

END:VCALENDAR
