BEGIN:VCALENDAR
VERSION:2.0
PRODID:-//ChamberMaster//Event Calendar 2.0//EN
METHOD:PUBLISH
X-PUBLISHED-TTL:P3D
REFRESH-INTERVAL:P3D
CALSCALE:GREGORIAN
BEGIN:VEVENT
DTSTART:20091109T170000Z
DTEND:20091109T180000Z
X-MICROSOFT-CDO-ALLDAYEVENT:FALSE
SUMMARY:Event at Dyersburg State Community College
DESCRIPTION:Activist Arun Gandhi will speak at the Dyersburg Campus at the Learning Resource Center (LRC)
X-ALT-DESC;FMTTYPE=text/html:Activist Arun Gandhi will speak at the Dyersburg Campus at the Learning Resource Center (LRC) 
LOCATION:Dyersburg Campus at the Learning Resource Center (LRC)
UID:e.576.205
SEQUENCE:3
DTSTAMP:20260422T053600Z
URL:https://business.dyerchamber.com/events/details/event-at-dyersburg-state-community-college-11-09-2009-205
END:VEVENT

END:VCALENDAR
