BEGIN:VCALENDAR
VERSION:2.0
PRODID:-//ChamberMaster//Event Calendar 2.0//EN
METHOD:PUBLISH
X-PUBLISHED-TTL:P3D
REFRESH-INTERVAL:P3D
CALSCALE:GREGORIAN
BEGIN:VEVENT
DTSTART;VALUE=DATE:20091114
DTEND;VALUE=DATE:20091115
TRANSP:TRANSPARENT
X-MICROSOFT-CDO-ALLDAYEVENT:TRUE
SUMMARY:Event at Dyersburg State Community College
DESCRIPTION:DSCC vs. Chattanooga CC
X-ALT-DESC;FMTTYPE=text/html:DSCC vs. Chattanooga CC
LOCATION:Gym
UID:e.576.215
SEQUENCE:3
DTSTAMP:20260422T053345Z
URL:https://business.dyerchamber.com/events/details/event-at-dyersburg-state-community-college-11-14-2009-215
END:VEVENT

END:VCALENDAR
