BEGIN:VCALENDAR
VERSION:2.0
PRODID:-//ChamberMaster//Event Calendar 2.0//EN
METHOD:PUBLISH
X-PUBLISHED-TTL:P3D
REFRESH-INTERVAL:P3D
CALSCALE:GREGORIAN
BEGIN:VEVENT
DTSTART;VALUE=DATE:20091116
DTEND;VALUE=DATE:20091117
TRANSP:TRANSPARENT
X-MICROSOFT-CDO-ALLDAYEVENT:TRUE
SUMMARY:Event at Dyersburg State Community College
DESCRIPTION:Activist Arun Gandhi to speak
X-ALT-DESC;FMTTYPE=text/html:Activist Arun Gandhi to speak
LOCATION:Dyersburg LRC
UID:e.576.208
SEQUENCE:3
DTSTAMP:20260422T053429Z
URL:https://business.dyerchamber.com/events/details/event-at-dyersburg-state-community-college-11-16-2009-208
END:VEVENT

END:VCALENDAR
