BEGIN:VCALENDAR
VERSION:2.0
PRODID:-//ChamberMaster//Event Calendar 2.0//EN
METHOD:PUBLISH
X-PUBLISHED-TTL:P3D
REFRESH-INTERVAL:P3D
CALSCALE:GREGORIAN
BEGIN:VEVENT
DTSTART;VALUE=DATE:20091119
DTEND;VALUE=DATE:20091123
TRANSP:TRANSPARENT
X-MICROSOFT-CDO-ALLDAYEVENT:TRUE
SUMMARY:Event at Dyersburg State Community College
DESCRIPTION:DSCC Theatre Department production of "Tuesdays with Morrie"
X-ALT-DESC;FMTTYPE=text/html:DSCC Theatre Department production of "Tuesdays with Morrie"
LOCATION:First Citizens National Bank Auditorium\, Campus Activities Building
UID:e.576.216
SEQUENCE:3
DTSTAMP:20260422T035835Z
URL:https://business.dyerchamber.com/events/details/event-at-dyersburg-state-community-college-11-19-2009-216
END:VEVENT

END:VCALENDAR
