BEGIN:VCALENDAR
VERSION:2.0
PRODID:-//ChamberMaster//Event Calendar 2.0//EN
METHOD:PUBLISH
X-PUBLISHED-TTL:P3D
REFRESH-INTERVAL:P3D
CALSCALE:GREGORIAN
BEGIN:VEVENT
DTSTART;VALUE=DATE:20091123
DTEND;VALUE=DATE:20091124
TRANSP:TRANSPARENT
X-MICROSOFT-CDO-ALLDAYEVENT:TRUE
SUMMARY:Event at Dyersburg State Community College
DESCRIPTION:Dyersburg Community Orchestra Concert
X-ALT-DESC;FMTTYPE=text/html:Dyersburg Community Orchestra Concert
LOCATION:First Baptist Church
UID:e.576.220
SEQUENCE:3
DTSTAMP:20260422T053346Z
URL:https://business.dyerchamber.com/events/details/event-at-dyersburg-state-community-college-11-23-2009-220
END:VEVENT

END:VCALENDAR
