BEGIN:VCALENDAR
VERSION:2.0
PRODID:-//ChamberMaster//Event Calendar 2.0//EN
METHOD:PUBLISH
X-PUBLISHED-TTL:P3D
REFRESH-INTERVAL:P3D
CALSCALE:GREGORIAN
BEGIN:VEVENT
DTSTART;VALUE=DATE:20091105
DTEND;VALUE=DATE:20091106
TRANSP:TRANSPARENT
X-MICROSOFT-CDO-ALLDAYEVENT:TRUE
SUMMARY:Event at Holy Angels Catholic Church
DESCRIPTION:Program designed to help those adversely affected by the hard economic times.  Refreshments and light food items will be served after the prayer service. Beth Bell will present a session on: ?Controlling Holiday Spending.?  Representatives from various social agencies will be in attendance.  There will be a drawing for Wal-Mart Gift Cards.
X-ALT-DESC;FMTTYPE=text/html:Program designed to help those adversely affected by the hard economic times.  Refreshments and light food items will be served after the prayer service. Beth Bell will present a session on: ?Controlling Holiday Spending.?  Representatives from various social agencies will be in attendance.  There will be a drawing for Wal-Mart Gift Cards. \n
LOCATION:Holy Angels Catholic Church\, 535 Tucker Street Dyersburg
UID:e.576.193
SEQUENCE:3
DTSTAMP:20260422T035739Z
URL:https://business.dyerchamber.com/events/details/event-at-holy-angels-catholic-church-11-05-2009-193
END:VEVENT

END:VCALENDAR
