BEGIN:VCALENDAR
VERSION:2.0
PRODID:-//ChamberMaster//Event Calendar 2.0//EN
METHOD:PUBLISH
X-PUBLISHED-TTL:P3D
REFRESH-INTERVAL:P3D
CALSCALE:GREGORIAN
BEGIN:VEVENT
DTSTART;VALUE=DATE:20091114
DTEND;VALUE=DATE:20091115
TRANSP:TRANSPARENT
X-MICROSOFT-CDO-ALLDAYEVENT:TRUE
SUMMARY:Event at Holy Angels Catholic Church
DESCRIPTION:Annual Church Rummage Sale
X-ALT-DESC;FMTTYPE=text/html:Annual Church Rummage Sale
LOCATION:Holy Angels Catholic Church\, 535 Tucker Street\, Dyersburg\, TN 38024
UID:e.576.194
SEQUENCE:3
DTSTAMP:20260422T035800Z
URL:https://business.dyerchamber.com/events/details/event-at-holy-angels-catholic-church-11-14-2009-194
END:VEVENT

END:VCALENDAR
