BEGIN:VCALENDAR
VERSION:2.0
PRODID:-//ChamberMaster//Event Calendar 2.0//EN
METHOD:PUBLISH
X-PUBLISHED-TTL:P3D
REFRESH-INTERVAL:P3D
CALSCALE:GREGORIAN
BEGIN:VEVENT
DTSTART:20091016T150000Z
DTEND:20091031T220000Z
X-MICROSOFT-CDO-ALLDAYEVENT:FALSE
SUMMARY:Event at McIver's Grant Public Library
DESCRIPTION:Book Sale
X-ALT-DESC;FMTTYPE=text/html:Book Sale
LOCATION:McIver's Grant Public Library
UID:e.576.196
SEQUENCE:3
DTSTAMP:20260422T053028Z
URL:https://business.dyerchamber.com/events/details/event-at-mciver-s-grant-public-library-10-16-2009-196
END:VEVENT

END:VCALENDAR
