BEGIN:VCALENDAR
VERSION:2.0
PRODID:-//ChamberMaster//Event Calendar 2.0//EN
METHOD:PUBLISH
X-PUBLISHED-TTL:P3D
REFRESH-INTERVAL:P3D
CALSCALE:GREGORIAN
BEGIN:VEVENT
DTSTART:20091107T200000Z
DTEND:20091107T210000Z
X-MICROSOFT-CDO-ALLDAYEVENT:FALSE
SUMMARY:Event at McIver's Grant Public Library
DESCRIPTION:Rodeo Roundup\;  Program for cowboys and cowgirls \, ages 3-10.  Games\, campfire food\, stick horse obstacle course and a trick horse. McIver's Grant Public Library.  at 1st Citizens Parking lot  $5 to cover cost.
X-ALT-DESC;FMTTYPE=text/html:Rodeo Roundup\;  Program for cowboys and cowgirls \, ages 3-10.  Games\, campfire food\, stick horse obstacle course and a trick horse. McIver's Grant Public Library.  at 1st Citizens Parking lot  $5 to cover cost.
LOCATION:1st Citizens Parking Lot
UID:e.576.195
SEQUENCE:3
DTSTAMP:20260422T035600Z
URL:https://business.dyerchamber.com/events/details/event-at-mciver-s-grant-public-library-11-07-2009-195
END:VEVENT

END:VCALENDAR
