BEGIN:VCALENDAR
VERSION:2.0
PRODID:-//ChamberMaster//Event Calendar 2.0//EN
METHOD:PUBLISH
X-PUBLISHED-TTL:P3D
REFRESH-INTERVAL:P3D
CALSCALE:GREGORIAN
BEGIN:VEVENT
DTSTART:20091111T000000Z
DTEND:20091111T020000Z
X-MICROSOFT-CDO-ALLDAYEVENT:FALSE
SUMMARY:Event at McIver's Grant Public Library
DESCRIPTION:best selling author Robert Dalby
X-ALT-DESC;FMTTYPE=text/html:best selling author Robert Dalby 
LOCATION:McIver's Grant Public LIbrary
UID:e.576.197
SEQUENCE:3
DTSTAMP:20260422T035554Z
URL:https://business.dyerchamber.com/events/details/event-at-mciver-s-grant-public-library-11-10-2009-197
END:VEVENT

END:VCALENDAR
