BEGIN:VCALENDAR
VERSION:2.0
PRODID:-//ChamberMaster//Event Calendar 2.0//EN
METHOD:PUBLISH
X-PUBLISHED-TTL:P3D
REFRESH-INTERVAL:P3D
CALSCALE:GREGORIAN
BEGIN:VEVENT
DTSTART;VALUE=DATE:20100111
DTEND;VALUE=DATE:20100112
TRANSP:TRANSPARENT
X-MICROSOFT-CDO-ALLDAYEVENT:TRUE
SUMMARY:Event at Sears
DESCRIPTION:Your invited to a Family & Friends V.I.P. event at the local HOMETOWN Sears store in Dyersburg\, TN.
X-ALT-DESC;FMTTYPE=text/html:Your invited to a Family &amp\; Friends V.I.P. event at the local HOMETOWN Sears store in Dyersburg\, TN.  
LOCATION:550 Hwy 51 Bypass\, Dyersburg\, TN 38024
UID:e.576.876
SEQUENCE:3
DTSTAMP:20260422T083256Z
URL:https://business.dyerchamber.com/events/details/event-at-sears-01-11-2010-876
END:VEVENT

END:VCALENDAR
