BEGIN:VCALENDAR
VERSION:2.0
PRODID:-//ChamberMaster//Event Calendar 2.0//EN
METHOD:PUBLISH
X-PUBLISHED-TTL:P3D
REFRESH-INTERVAL:P3D
CALSCALE:GREGORIAN
BEGIN:VEVENT
DTSTART;VALUE=DATE:20091116
DTEND;VALUE=DATE:20091117
TRANSP:TRANSPARENT
X-MICROSOFT-CDO-ALLDAYEVENT:TRUE
SUMMARY:Event at Sears
DESCRIPTION:Sears Family & Friends V.I.P.  event \nChristmas Open House with refreshments from 5:00 to close.  \nAdditional 10% off purchases on ALMOST everything.
X-ALT-DESC;FMTTYPE=text/html:Sears Family & Friends V.I.P.  event \nChristmas Open House with refreshments from 5:00 to close.  \nAdditional 10% off purchases on ALMOST everything. 
LOCATION:Sears-550 Hwy 51 Bypass\, Dyersburg\, TN. 38024
UID:e.576.227
SEQUENCE:3
DTSTAMP:20260422T035427Z
URL:https://business.dyerchamber.com/events/details/event-at-sears-11-16-2009-227
END:VEVENT

END:VCALENDAR
