BEGIN:VCALENDAR
VERSION:2.0
PRODID:-//ChamberMaster//Event Calendar 2.0//EN
METHOD:PUBLISH
X-PUBLISHED-TTL:P3D
REFRESH-INTERVAL:P3D
CALSCALE:GREGORIAN
BEGIN:VEVENT
DTSTART;VALUE=DATE:20101204
DTEND;VALUE=DATE:20101205
TRANSP:TRANSPARENT
X-MICROSOFT-CDO-ALLDAYEVENT:TRUE
SUMMARY:Event at Sears
DESCRIPTION:Give with Your Heart
X-ALT-DESC;FMTTYPE=text/html:Give with Your Heart 
LOCATION:550 Hwy 51 Bypass\, Dyersburg\, Tn. 38024
UID:e.576.974
SEQUENCE:3
DTSTAMP:20260421T082707Z
URL:https://business.dyerchamber.com/events/details/event-at-sears-12-04-2010-974
END:VEVENT

END:VCALENDAR
