BEGIN:VCALENDAR
VERSION:2.0
PRODID:-//ChamberMaster//Event Calendar 2.0//EN
METHOD:PUBLISH
X-PUBLISHED-TTL:P3D
REFRESH-INTERVAL:P3D
CALSCALE:GREGORIAN
BEGIN:VEVENT
DTSTART;VALUE=DATE:20101208
DTEND;VALUE=DATE:20101209
TRANSP:TRANSPARENT
X-MICROSOFT-CDO-ALLDAYEVENT:TRUE
SUMMARY:Event at Sears
DESCRIPTION:Senior Citizens-Over 60 get extra 10% off
X-ALT-DESC;FMTTYPE=text/html:Senior Citizens-Over 60 get extra 10% off 
LOCATION:550 Hwy 51 Bypass\, Dyersburg\, Tn. 38024
UID:e.576.976
SEQUENCE:3
DTSTAMP:20260421T084040Z
URL:https://business.dyerchamber.com/events/details/event-at-sears-12-08-2010-976
END:VEVENT

END:VCALENDAR
