BEGIN:VCALENDAR
VERSION:2.0
PRODID:-//ChamberMaster//Event Calendar 2.0//EN
METHOD:PUBLISH
X-PUBLISHED-TTL:P3D
REFRESH-INTERVAL:P3D
CALSCALE:GREGORIAN
BEGIN:VEVENT
DTSTART;VALUE=DATE:20101213
DTEND;VALUE=DATE:20101214
TRANSP:TRANSPARENT
X-MICROSOFT-CDO-ALLDAYEVENT:TRUE
SUMMARY:Event at Sears
DESCRIPTION:Friends & Family Event - Extra 10% OFF on almost everything- all day
X-ALT-DESC;FMTTYPE=text/html:Friends &amp\; Family Event - Extra 10% OFF on almost everything- all day
LOCATION:550 Hwy 51 Bypass\, Dyersburg\, Tn.
UID:e.576.975
SEQUENCE:3
DTSTAMP:20260421T084129Z
URL:https://business.dyerchamber.com/events/details/event-at-sears-12-13-2010-975
END:VEVENT

END:VCALENDAR
