BEGIN:VCALENDAR
VERSION:2.0
PRODID:-//ChamberMaster//Event Calendar 2.0//EN
METHOD:PUBLISH
X-PUBLISHED-TTL:P3D
REFRESH-INTERVAL:P3D
CALSCALE:GREGORIAN
BEGIN:VEVENT
DTSTART;VALUE=DATE:20091023
DTEND;VALUE=DATE:20091024
TRANSP:TRANSPARENT
X-MICROSOFT-CDO-ALLDAYEVENT:TRUE
SUMMARY:Event at The Farms
DESCRIPTION:Please see our web page @ dccfarms@ecsis.net to see all events at The Farms
X-ALT-DESC;FMTTYPE=text/html:Please see our web page @ dccfarms@ecsis.net to see all events at The Farms
LOCATION:
UID:e.576.199
SEQUENCE:3
DTSTAMP:20260422T053043Z
URL:https://business.dyerchamber.com/events/details/event-at-the-farms-10-23-2009-199
END:VEVENT

END:VCALENDAR
