BEGIN:VCALENDAR
VERSION:2.0
PRODID:-//ChamberMaster//Event Calendar 2.0//EN
METHOD:PUBLISH
X-PUBLISHED-TTL:P3D
REFRESH-INTERVAL:P3D
CALSCALE:GREGORIAN
BEGIN:VEVENT
DTSTART;VALUE=DATE:20091119
DTEND;VALUE=DATE:20091226
TRANSP:TRANSPARENT
X-MICROSOFT-CDO-ALLDAYEVENT:TRUE
SUMMARY:Event at Transitions of Dyer County
DESCRIPTION:Transitions "Twelve Days of Christmas" fundraiser.  For a donation of $10 you will receive 1 ticket\, or 3 tickets for $25.  One ticket entitles you to all 12 days of drawing for an opportunity for your name to be drawn for 12 exclusive gifts\, beginning December 14 thru December 25. Grand prize is a two night stay at Doubletree Memphis/Dinner for 2 @ Cal's Steak House/2 tickets to Regions Morgan Keegan Championship Tennis Tournament. Other gifts to be drawn are a Flat Screen TV\, GPS\, Table Lamps\, $100 Gift Basket (2)\, Spa Package\, Dinner for 2 & Massage\, Bombay Chest\, Ornamental Wall Hanging\, Crystal Etched Rose Bowl\, Maple Hall Tree. To purchase tickets call 285-1881/589-0848.
X-ALT-DESC;FMTTYPE=text/html:Transitions "Twelve Days of Christmas" fundraiser.  For a donation of $10 you will receive 1 ticket\, or 3 tickets for $25.  One ticket entitles you to all 12 days of drawing for an opportunity for your name to be drawn for 12 exclusive gifts\, beginning December 14 thru December 25. Grand prize is a two night stay at Doubletree Memphis/Dinner for 2 @ Cal's Steak House/2 tickets to Regions Morgan Keegan Championship Tennis Tournament. Other gifts to be drawn are a Flat Screen TV\, GPS\, Table Lamps\, $100 Gift Basket (2)\, Spa Package\, Dinner for 2 & Massage\, Bombay Chest\, Ornamental Wall Hanging\, Crystal Etched Rose Bowl\, Maple Hall Tree. To purchase tickets call 285-1881/589-0848. 
LOCATION:
UID:e.576.228
SEQUENCE:3
DTSTAMP:20260422T035646Z
URL:https://business.dyerchamber.com/events/details/event-at-transitions-of-dyer-county-11-19-2009-228
END:VEVENT

END:VCALENDAR
